BEGIN:VCALENDAR
CALSCALE:GREGORIAN
VERSION:2.0
PRODID:-//Events Calendar//iCal4j 1.0//EN
BEGIN:VTIMEZONE
TZID:Europe/Brussels
LAST-MODIFIED:20260306T231828Z
TZURL:https://www.tzurl.org/zoneinfo/Europe/Brussels
X-LIC-LOCATION:Europe/Brussels
X-PROLEPTIC-TZNAME:LMT
BEGIN:STANDARD
TZNAME:BMT
TZOFFSETFROM:+001730
TZOFFSETTO:+001730
DTSTART:18800101T000000
END:STANDARD
BEGIN:STANDARD
TZNAME:WET
TZOFFSETFROM:+001730
TZOFFSETTO:+0000
DTSTART:18920501T001730
END:STANDARD
BEGIN:STANDARD
TZNAME:CET
TZOFFSETFROM:+0000
TZOFFSETTO:+0100
DTSTART:19141108T000000
END:STANDARD
BEGIN:DAYLIGHT
TZNAME:CEST
TZOFFSETFROM:+0100
TZOFFSETTO:+0200
DTSTART:19160430T230000
RDATE:19400520T030000
RDATE:19430329T020000
RDATE:19440403T020000
RDATE:19450402T020000
RDATE:19460519T020000
END:DAYLIGHT
BEGIN:STANDARD
TZNAME:CET
TZOFFSETFROM:+0200
TZOFFSETTO:+0100
DTSTART:19161001T010000
RDATE:19421102T030000
RDATE:19431004T030000
RDATE:19440917T030000
RDATE:19450916T030000
RDATE:19461007T030000
RDATE:19770925T030000
RDATE:19781001T030000
END:STANDARD
BEGIN:DAYLIGHT
TZNAME:CEST
TZOFFSETFROM:+0100
TZOFFSETTO:+0200
DTSTART:19170416T020000
RRULE:FREQ=YEARLY;UNTIL=19180415T010000Z;BYMONTH=4;BYDAY=3MO
END:DAYLIGHT
BEGIN:STANDARD
TZNAME:CET
TZOFFSETFROM:+0200
TZOFFSETTO:+0100
DTSTART:19170917T030000
RRULE:FREQ=YEARLY;UNTIL=19180916T010000Z;BYMONTH=9;BYDAY=3MO
END:STANDARD
BEGIN:STANDARD
TZNAME:WET
TZOFFSETFROM:+0100
TZOFFSETTO:+0000
DTSTART:19181111T120000
RDATE:19191005T000000
RDATE:19201024T000000
RDATE:19211026T000000
RDATE:19391119T030000
END:STANDARD
BEGIN:DAYLIGHT
TZNAME:WEST
TZOFFSETFROM:+0000
TZOFFSETTO:+0100
DTSTART:19190301T230000
RDATE:19200214T230000
RDATE:19210314T230000
RDATE:19220325T230000
RDATE:19230421T230000
RDATE:19240329T230000
RDATE:19250404T230000
RDATE:19260417T230000
RDATE:19270409T230000
RDATE:19280414T230000
RDATE:19290421T020000
RDATE:19300413T020000
RDATE:19310419T020000
RDATE:19320403T020000
RDATE:19330326T020000
RDATE:19340408T020000
RDATE:19350331T020000
RDATE:19360419T020000
RDATE:19370404T020000
RDATE:19380327T020000
RDATE:19390416T020000
RDATE:19400225T020000
END:DAYLIGHT
BEGIN:STANDARD
TZNAME:WET
TZOFFSETFROM:+0100
TZOFFSETTO:+0000
DTSTART:19221008T000000
RRULE:FREQ=YEARLY;UNTIL=19271001T230000Z;BYMONTH=10;BYMONTHDAY=2,3,4,5,6,7,
 8;BYDAY=SU
END:STANDARD
BEGIN:STANDARD
TZNAME:WET
TZOFFSETFROM:+0100
TZOFFSETTO:+0000
DTSTART:19281007T030000
RRULE:FREQ=YEARLY;UNTIL=19381002T020000Z;BYMONTH=10;BYMONTHDAY=2,3,4,5,6,7,
 8;BYDAY=SU
END:STANDARD
BEGIN:DAYLIGHT
TZNAME:CEST
TZOFFSETFROM:+0200
TZOFFSETTO:+0200
DTSTART:19440903T000000
END:DAYLIGHT
BEGIN:STANDARD
TZNAME:CET
TZOFFSETFROM:+0100
TZOFFSETTO:+0100
DTSTART:19770101T000000
END:STANDARD
BEGIN:DAYLIGHT
TZNAME:CEST
TZOFFSETFROM:+0100
TZOFFSETTO:+0200
DTSTART:19770403T020000
RRULE:FREQ=YEARLY;UNTIL=19800406T010000Z;BYMONTH=4;BYDAY=1SU
END:DAYLIGHT
BEGIN:STANDARD
TZNAME:CET
TZOFFSETFROM:+0200
TZOFFSETTO:+0100
DTSTART:19790930T030000
RRULE:FREQ=YEARLY;UNTIL=19950924T010000Z;BYMONTH=9;BYDAY=-1SU
END:STANDARD
BEGIN:DAYLIGHT
TZNAME:CEST
TZOFFSETFROM:+0100
TZOFFSETTO:+0200
DTSTART:19810329T020000
RRULE:FREQ=YEARLY;BYMONTH=3;BYDAY=-1SU
END:DAYLIGHT
BEGIN:STANDARD
TZNAME:CET
TZOFFSETFROM:+0200
TZOFFSETTO:+0100
DTSTART:19961027T030000
RRULE:FREQ=YEARLY;BYMONTH=10;BYDAY=-1SU
END:STANDARD
END:VTIMEZONE
BEGIN:VEVENT
DTSTAMP:20260423T002417Z
DTSTART;TZID=Europe/Brussels:20260331T120000
DTEND;TZID=Europe/Brussels:20260331T130000
SUMMARY:Introducing the Latest Check Point WAF Features - EMEA
LAST-MODIFIED:20260423T002417Z
LOCATION:
TZID:Europe/Brussels
UID:message-1193
DESCRIPTION:Click the link below to go to the event page:\nhttps://communit
 y.checkpoint.com/t5/CheckMates-Events/Introducing-the-Latest-Check-Point-W
 AF-Features-EMEA/ec-p/273113#M1193\n\nJoin us for an exciting session Marc
 h 31st\,  Where  we’ll showcase new capabilities. Topics include Central N
 GINX Management\, Client-Side Protection for PCI DSS 4.0\, CDN functionali
 ty\, and API Authentication with JWT Validation   Register Now! 
X-ALT-DESC;FMTTYPE=text/html:<P>Click the link below to go to the event pag
 e:</P><BR><A href="https://community.checkpoint.com/t5/CheckMates-Events/I
 ntroducing-the-Latest-Check-Point-WAF-Features-EMEA/ec-p/273113#M1193">htt
 ps://community.checkpoint.com/t5/CheckMates-Events/Introducing-the-Latest-
 Check-Point-WAF-Features-EMEA/ec-p/273113#M1193</A><BR><BR><P>Join us for 
 an exciting session March 31st\,&nbsp\;</P>\n<P><SPAN>Where&nbsp\; we’ll s
 howcase new capabilities. Topics include Central NGINX Management\, Client
 -Side Protection for PCI DSS 4.0\, CDN functionality\, and API Authenticat
 ion with JWT Validation</SPAN></P>\n<P>&nbsp\;</P>\n<H2 class="lia-align-c
 enter" id="toc-hId-1651136165" style="text-align: center\;"><STRONG><A hre
 f="https://checkpoint.zoom.us/webinar/register/2517732279590/WN_njdo6CCPQi
 yLxZ1nijWVpQ" target="_self" rel="nofollow noopener noreferrer">Register N
 ow!&nbsp\;</A></STRONG></H2>
END:VEVENT
END:VCALENDAR
