BEGIN:VCALENDAR
CALSCALE:GREGORIAN
VERSION:2.0
PRODID:-//Events Calendar//iCal4j 1.0//EN
BEGIN:VTIMEZONE
TZID:America/New_York
LAST-MODIFIED:20260306T231828Z
TZURL:https://www.tzurl.org/zoneinfo/America/New_York
X-LIC-LOCATION:America/New_York
X-PROLEPTIC-TZNAME:LMT
BEGIN:STANDARD
TZNAME:EST
TZOFFSETFROM:-045602
TZOFFSETTO:-0500
DTSTART:18831118T120358
END:STANDARD
BEGIN:DAYLIGHT
TZNAME:EDT
TZOFFSETFROM:-0500
TZOFFSETTO:-0400
DTSTART:19180331T020000
RRULE:FREQ=YEARLY;UNTIL=19200328T070000Z;BYMONTH=3;BYDAY=-1SU
END:DAYLIGHT
BEGIN:STANDARD
TZNAME:EST
TZOFFSETFROM:-0400
TZOFFSETTO:-0500
DTSTART:19181027T020000
RRULE:FREQ=YEARLY;UNTIL=19201031T060000Z;BYMONTH=10;BYDAY=-1SU
END:STANDARD
BEGIN:DAYLIGHT
TZNAME:EDT
TZOFFSETFROM:-0500
TZOFFSETTO:-0400
DTSTART:19210424T020000
RRULE:FREQ=YEARLY;UNTIL=19410427T070000Z;BYMONTH=4;BYDAY=-1SU
END:DAYLIGHT
BEGIN:STANDARD
TZNAME:EST
TZOFFSETFROM:-0400
TZOFFSETTO:-0500
DTSTART:19210925T020000
RRULE:FREQ=YEARLY;UNTIL=19410928T060000Z;BYMONTH=9;BYDAY=-1SU
END:STANDARD
BEGIN:DAYLIGHT
TZNAME:EWT
TZOFFSETFROM:-0500
TZOFFSETTO:-0400
DTSTART:19420209T020000
END:DAYLIGHT
BEGIN:DAYLIGHT
TZNAME:EPT
TZOFFSETFROM:-0400
TZOFFSETTO:-0400
DTSTART:19450814T190000
END:DAYLIGHT
BEGIN:STANDARD
TZNAME:EST
TZOFFSETFROM:-0400
TZOFFSETTO:-0500
DTSTART:19450930T020000
END:STANDARD
BEGIN:DAYLIGHT
TZNAME:EDT
TZOFFSETFROM:-0500
TZOFFSETTO:-0400
DTSTART:19460428T020000
RRULE:FREQ=YEARLY;UNTIL=19730429T070000Z;BYMONTH=4;BYDAY=-1SU
END:DAYLIGHT
BEGIN:STANDARD
TZNAME:EST
TZOFFSETFROM:-0400
TZOFFSETTO:-0500
DTSTART:19460929T020000
RRULE:FREQ=YEARLY;UNTIL=19540926T060000Z;BYMONTH=9;BYDAY=-1SU
END:STANDARD
BEGIN:STANDARD
TZNAME:EST
TZOFFSETFROM:-0400
TZOFFSETTO:-0500
DTSTART:19551030T020000
RRULE:FREQ=YEARLY;UNTIL=20061029T060000Z;BYMONTH=10;BYDAY=-1SU
END:STANDARD
BEGIN:DAYLIGHT
TZNAME:EDT
TZOFFSETFROM:-0500
TZOFFSETTO:-0400
DTSTART:19740106T020000
RDATE:19750223T020000
END:DAYLIGHT
BEGIN:DAYLIGHT
TZNAME:EDT
TZOFFSETFROM:-0500
TZOFFSETTO:-0400
DTSTART:19760425T020000
RRULE:FREQ=YEARLY;UNTIL=19860427T070000Z;BYMONTH=4;BYDAY=-1SU
END:DAYLIGHT
BEGIN:DAYLIGHT
TZNAME:EDT
TZOFFSETFROM:-0500
TZOFFSETTO:-0400
DTSTART:19870405T020000
RRULE:FREQ=YEARLY;UNTIL=20060402T070000Z;BYMONTH=4;BYDAY=1SU
END:DAYLIGHT
BEGIN:DAYLIGHT
TZNAME:EDT
TZOFFSETFROM:-0500
TZOFFSETTO:-0400
DTSTART:20070311T020000
RRULE:FREQ=YEARLY;BYMONTH=3;BYDAY=2SU
END:DAYLIGHT
BEGIN:STANDARD
TZNAME:EST
TZOFFSETFROM:-0400
TZOFFSETTO:-0500
DTSTART:20071104T020000
RRULE:FREQ=YEARLY;BYMONTH=11;BYDAY=1SU
END:STANDARD
END:VTIMEZONE
BEGIN:VEVENT
DTSTAMP:20260423T050410Z
DTSTART;TZID=America/New_York:20260310T150000
DTEND;TZID=America/New_York:20260310T160000
SUMMARY:Americas Deep Dive: Web Filtering Best Practices
LAST-MODIFIED:20260423T050410Z
LOCATION:https://checkpoint.zoom.us/webinar/register/7716236883663/WN_I7RFw
 64NRPKAiV9Evwmh1g
TZID:America/New_York
UID:message-1170
DESCRIPTION:Click the link below to go to the event page:\nhttps://communit
 y.checkpoint.com/t5/CheckMates-Events/Americas-Deep-Dive-Web-Filtering-Bes
 t-Practices/ec-p/271507#M1170\n\nJoin us for a session on Best Practices o
 n configuring Web Filtering on Check Point Firewalls using Application Con
 trol and URL Filtering! Our Agenda includes:   Assumptions  Who is Web Bro
 wsing?  What Are They Browsing?  How To Allow Safely?  Addressing Specific
  Business Needs  Performance Considerations  What's New? We look forward t
 o seeing you! Register Here
X-ALT-DESC;FMTTYPE=text/html:<P>Click the link below to go to the event pag
 e:</P><BR><A href="https://community.checkpoint.com/t5/CheckMates-Events/A
 mericas-Deep-Dive-Web-Filtering-Best-Practices/ec-p/271507#M1170">https://
 community.checkpoint.com/t5/CheckMates-Events/Americas-Deep-Dive-Web-Filte
 ring-Best-Practices/ec-p/271507#M1170</A><BR><BR><P data-ogsc="rgb(0\, 0\,
  0)"><SPAN>Join us for a session on Best Practices on configuring Web Filt
 ering on Check Point Firewalls using Application Control and URL Filtering
 !</SPAN></P>\n<P data-ogsc="rgb(0\, 0\, 0)"><SPAN>Our Agenda includes:</SP
 AN></P>\n<UL>\n<LI data-ogsc="rgb(88\, 89\, 91)">\n<P data-ogsc="rgb(0\, 0
 \, 0)"><SPAN>Assumptions</SPAN></P>\n</LI>\n<LI data-ogsc="rgb(88\, 89\, 9
 1)">\n<P data-ogsc="rgb(0\, 0\, 0)"><SPAN>Who is Web Browsing?</SPAN></P>\
 n</LI>\n<LI data-ogsc="rgb(88\, 89\, 91)">\n<P data-ogsc="rgb(0\, 0\, 0)">
 <SPAN>What Are They Browsing?</SPAN></P>\n</LI>\n<LI data-ogsc="rgb(88\, 8
 9\, 91)">\n<P data-ogsc="rgb(0\, 0\, 0)"><SPAN>How To Allow Safely?</SPAN>
 </P>\n</LI>\n<LI data-ogsc="rgb(88\, 89\, 91)">\n<P data-ogsc="rgb(0\, 0\,
  0)"><SPAN>Addressing Specific Business Needs</SPAN></P>\n</LI>\n<LI data-
 ogsc="rgb(88\, 89\, 91)">\n<P data-ogsc="rgb(0\, 0\, 0)"><SPAN>Performance
  Considerations</SPAN></P>\n</LI>\n<LI data-ogsc="rgb(88\, 89\, 91)">\n<P 
 data-ogsc="rgb(0\, 0\, 0)"><SPAN>What's New?</SPAN></P>\n</LI>\n</UL>\n<P 
 data-ogsc="rgb(0\, 0\, 0)"><SPAN>We look forward to seeing you!</SPAN></P>
 \n<H2 class="lia-align-center" data-ogsc="rgb(0\, 0\, 0)" id="toc-hId-1651
 080400" style="text-align: center\;"><A href="https://checkpoint.zoom.us/w
 ebinar/register/7716236883663/WN_I7RFw64NRPKAiV9Evwmh1g" target="_blank" r
 el="noopener nofollow noreferrer"><SPAN>Register Here</SPAN></A></H2>
END:VEVENT
END:VCALENDAR
