BEGIN:VCALENDAR
CALSCALE:GREGORIAN
VERSION:2.0
PRODID:-//Events Calendar//iCal4j 1.0//EN
BEGIN:VTIMEZONE
TZID:America/Denver
LAST-MODIFIED:20260306T231828Z
TZURL:https://www.tzurl.org/zoneinfo/America/Denver
X-LIC-LOCATION:America/Denver
X-PROLEPTIC-TZNAME:LMT
BEGIN:STANDARD
TZNAME:MST
TZOFFSETFROM:-065956
TZOFFSETTO:-0700
DTSTART:18831118T120004
END:STANDARD
BEGIN:DAYLIGHT
TZNAME:MDT
TZOFFSETFROM:-0700
TZOFFSETTO:-0600
DTSTART:19180331T020000
RRULE:FREQ=YEARLY;UNTIL=19210327T090000Z;BYMONTH=3;BYDAY=-1SU
END:DAYLIGHT
BEGIN:STANDARD
TZNAME:MST
TZOFFSETFROM:-0600
TZOFFSETTO:-0700
DTSTART:19181027T020000
RRULE:FREQ=YEARLY;UNTIL=19201031T080000Z;BYMONTH=10;BYDAY=-1SU
END:STANDARD
BEGIN:STANDARD
TZNAME:MST
TZOFFSETFROM:-0600
TZOFFSETTO:-0700
DTSTART:19210522T020000
RDATE:19450930T020000
END:STANDARD
BEGIN:DAYLIGHT
TZNAME:MWT
TZOFFSETFROM:-0700
TZOFFSETTO:-0600
DTSTART:19420209T020000
END:DAYLIGHT
BEGIN:DAYLIGHT
TZNAME:MPT
TZOFFSETFROM:-0600
TZOFFSETTO:-0600
DTSTART:19450814T170000
END:DAYLIGHT
BEGIN:DAYLIGHT
TZNAME:MDT
TZOFFSETFROM:-0700
TZOFFSETTO:-0600
DTSTART:19650425T020000
RRULE:FREQ=YEARLY;UNTIL=19730429T090000Z;BYMONTH=4;BYDAY=-1SU
END:DAYLIGHT
BEGIN:STANDARD
TZNAME:MST
TZOFFSETFROM:-0600
TZOFFSETTO:-0700
DTSTART:19651031T020000
RRULE:FREQ=YEARLY;UNTIL=20061029T080000Z;BYMONTH=10;BYDAY=-1SU
END:STANDARD
BEGIN:DAYLIGHT
TZNAME:MDT
TZOFFSETFROM:-0700
TZOFFSETTO:-0600
DTSTART:19740106T020000
RDATE:19750223T020000
END:DAYLIGHT
BEGIN:DAYLIGHT
TZNAME:MDT
TZOFFSETFROM:-0700
TZOFFSETTO:-0600
DTSTART:19760425T020000
RRULE:FREQ=YEARLY;UNTIL=19860427T090000Z;BYMONTH=4;BYDAY=-1SU
END:DAYLIGHT
BEGIN:DAYLIGHT
TZNAME:MDT
TZOFFSETFROM:-0700
TZOFFSETTO:-0600
DTSTART:19870405T020000
RRULE:FREQ=YEARLY;UNTIL=20060402T090000Z;BYMONTH=4;BYDAY=1SU
END:DAYLIGHT
BEGIN:DAYLIGHT
TZNAME:MDT
TZOFFSETFROM:-0700
TZOFFSETTO:-0600
DTSTART:20070311T020000
RRULE:FREQ=YEARLY;BYMONTH=3;BYDAY=2SU
END:DAYLIGHT
BEGIN:STANDARD
TZNAME:MST
TZOFFSETFROM:-0600
TZOFFSETTO:-0700
DTSTART:20071104T020000
RRULE:FREQ=YEARLY;BYMONTH=11;BYDAY=1SU
END:STANDARD
END:VTIMEZONE
BEGIN:VEVENT
DTSTAMP:20260423T050722Z
DTSTART;TZID=America/Denver:20230928T120000
DTEND;TZID=America/Denver:20230928T140000
SUMMARY:Denver: CloudGuard CNAPP
LAST-MODIFIED:20260423T050722Z
LOCATION:https://pages.checkpoint.com/checkmates-live-denver.html?utm_sourc
 e=checkmates&utm_medium=community&utm_id=FM_SMR_23Q3_AMER_CheckMates_Live_
 Denver
TZID:America/Denver
UID:message-477
DESCRIPTION:Click the link below to go to the event page:\nhttps://communit
 y.checkpoint.com/t5/CheckMates-Events/Denver-CloudGuard-CNAPP/ec-p/191291#
 M477\n\nJoin us for an in-person cyber security community event with your 
 fellow Check Point customers at Dave and Busters on September 28th 2023 at
  Noon MDT! Over lunch (will be provided)\, learn how Check Point’s CloudGu
 ard CNAPP suite addresses a wide range of cloud security use cases from co
 de to cloud. Gain knowledge of the importance of a cloud security solution
  that operates in multi-cloud and hybrid cloud environments and addresses 
 issues such as leaked secrets in code\, misconfigurations\, compliance rep
 orting\, and workload protection. If you are a CISO\, a department lead\, 
 an operator or architect\, you will gain valuable insights in how companie
 s address cloud security needs. After the lunch and learn\, power cards wi
 ll be provided for the arcade! We guarantee that you'll leave this event h
 aving learned something new that you can use to improve your security post
 ure. In addition\, this event provides an opportunity to meet your fellow 
 Check Point customers in the region. Location: Dave and Busters\, 2000 S C
 olorado Blvd\, Denver\, CO 80222 Register Here
X-ALT-DESC;FMTTYPE=text/html:<P>Click the link below to go to the event pag
 e:</P><BR><A href="https://community.checkpoint.com/t5/CheckMates-Events/D
 enver-CloudGuard-CNAPP/ec-p/191291#M477">https://community.checkpoint.com/
 t5/CheckMates-Events/Denver-CloudGuard-CNAPP/ec-p/191291#M477</A><BR><BR><
 P>Join us for an in-person cyber security community event with your fellow
  Check Point customers at <A href="https://goo.gl/maps/T87vnWH4rR5mAUq56" 
 target="_self" rel="nofollow noopener noreferrer">Dave and Busters</A> on 
 September 28th 2023 at Noon MDT!</P>\n<P>Over lunch (will be provided)\, l
 earn how <STRONG>Check Point’s CloudGuard CNAPP</STRONG> suite addresses a
  wide range of cloud security use cases from code to cloud. Gain knowledge
  of the importance of a cloud security solution that operates in multi-clo
 ud and hybrid cloud environments and addresses issues such as leaked secre
 ts in code\, misconfigurations\, compliance reporting\, and workload prote
 ction. If you are a CISO\, a department lead\, an operator or architect\, 
 you will gain valuable insights in how companies address cloud security ne
 eds.</P>\n<P>After the lunch and learn\, power cards will be provided for 
 the arcade!</P>\n<P>We guarantee that you'll leave this event having learn
 ed something new that you can use to improve your security posture. In add
 ition\, this event provides an opportunity to meet your fellow Check Point
  customers in the region.</P>\n<P>Location: <A href="https://goo.gl/maps/T
 87vnWH4rR5mAUq56" target="_self" rel="nofollow noopener noreferrer">Dave a
 nd Busters</A>\, 2000 S Colorado Blvd\, Denver\, CO 80222</P>\n<H2 class="
 lia-align-center" id="toc-hId-1624295681" style="text-align: center\;"><A 
 href="https://pages.checkpoint.com/checkmates-live-denver.html?utm_source=
 checkmates&amp\;utm_medium=community&amp\;utm_id=FM_SMR_23Q3_AMER_CheckMat
 es_Live_Denver" target="_self" rel="noopener noreferrer">Register Here</A>
 </H2>
END:VEVENT
END:VCALENDAR
